BEGIN:VCALENDAR
VERSION:2.0
PRODID:-//Ferme du Ter Ter - ECPv6.15.20//NONSGML v1.0//EN
CALSCALE:GREGORIAN
METHOD:PUBLISH
X-ORIGINAL-URL:https://fermeduterter.fr
X-WR-CALDESC:Évènements pour Ferme du Ter Ter
REFRESH-INTERVAL;VALUE=DURATION:PT1H
X-Robots-Tag:noindex
X-PUBLISHED-TTL:PT1H
BEGIN:VTIMEZONE
TZID:Europe/Paris
BEGIN:DAYLIGHT
TZOFFSETFROM:+0100
TZOFFSETTO:+0200
TZNAME:CEST
DTSTART:20240331T010000
END:DAYLIGHT
BEGIN:STANDARD
TZOFFSETFROM:+0200
TZOFFSETTO:+0100
TZNAME:CET
DTSTART:20241027T010000
END:STANDARD
BEGIN:DAYLIGHT
TZOFFSETFROM:+0100
TZOFFSETTO:+0200
TZNAME:CEST
DTSTART:20250330T010000
END:DAYLIGHT
BEGIN:STANDARD
TZOFFSETFROM:+0200
TZOFFSETTO:+0100
TZNAME:CET
DTSTART:20251026T010000
END:STANDARD
BEGIN:DAYLIGHT
TZOFFSETFROM:+0100
TZOFFSETTO:+0200
TZNAME:CEST
DTSTART:20260329T010000
END:DAYLIGHT
BEGIN:STANDARD
TZOFFSETFROM:+0200
TZOFFSETTO:+0100
TZNAME:CET
DTSTART:20261025T010000
END:STANDARD
END:VTIMEZONE
BEGIN:VEVENT
DTSTART;VALUE=DATE:20250224
DTEND;VALUE=DATE:20250601
DTSTAMP:20260423T001138
CREATED:20250106T211548Z
LAST-MODIFIED:20250402T210203Z
UID:1457-1740355200-1748735999@fermeduterter.fr
SUMMARY:Chantier participatif pré-aménagement
DESCRIPTION:Fin mars\, la SCIC est officiellement devenue propriétaire de la ferme ! \nAprès un premier mois de chantier\, nous continuons les travaux\, et nous nous attaquerons au rafraichissement intérieur du manoir en vue de le rendre habitable pour cette première année du projet. Au programme\, lessivage général\, démontage\, décollage de vieilles tapisseries\, enduits de rebouchage\, isolation\, peinture\, rénovation des parquets\, et autres petites tâches de réhabilitation.  \nPour avancer sereinement dans ces chantiers\, toute aide est la bienvenue ! Nous serions ravis de vous accueillir\, une demie-journée ou plusieurs jours\, pour travailler ensemble sur ce bâtiment remarquable de 1902. L’occasion aussi de découvrir le coin\, les champs\, la forêt et l’étang ! Et bien sûr\, les repas et le café sont offerts !\nIl suffit pour nous rejoindre de vous inscrire via le lien suivant les jours qui vous conviennent\, et de venir nous rejoindre :\nhttps://framadate.org/oNOZB6C2ytE2NFZx (plus d’infos en description du sondage) \nUne première étape avant les grands travaux prévus dans deux ans pour réaménager l’ensemble du bâtiment et le mettre aux normes pour l’accueil social !
URL:https://fermeduterter.fr/event/chantier-participatif-refection-interieure-du-manoir/
LOCATION:Les Fertais\, 4 les Fertais\, MARCILLE-RAOUL\, 35560\, France
END:VEVENT
BEGIN:VEVENT
DTSTART;VALUE=DATE:20250313
DTEND;VALUE=DATE:20250601
DTSTAMP:20260423T001138
CREATED:20250106T213211Z
LAST-MODIFIED:20250402T210238Z
UID:1459-1741824000-1748735999@fermeduterter.fr
SUMMARY:Chantiers participatifs agricoles : montage de serres\, installation réseau
DESCRIPTION:A partir de mars\, nous commencerons les chantiers d’installation agricole !  \nLa première étape sera l’installation des serres maraîchères. C’est deux tunnels de 50 mètres de long permettront de produire des légumes en toute saison\, notamment les légumes frais au printemps et à l’automne\, et l’ensemble des légumes d’été\, des tomates aux aubergines en passant par les melons et les concombres. \nCe chantier est à la fois imposant et facile d’accès : il repose sur beaucoup de tâches d’assemblage qui peuvent être partager en un grand nombre de personnes et qui permettent de s’exercer sur l’utilisation des outils portatifs courants. \nEn parallèle\, les terrassiers commenceront à creuser le futur réseau d’eau et d’électricité de la ferme. Nous pourrons les seconder en installation les gaines et les tuyaux dans leur sillage. \nL’objectif est que les tunnels soient prêts fin avril pour accueillir les plants des légumes d’été\, un défi qui passe par de nombreuses paires de bras ! \nPour avancer sereinement dans ces chantiers\, toute aide est la bienvenue ! N’hésitez pas à nous rejoindre une demie-journée ou plusieurs jours. L’occasion aussi de découvrir le coin\, le manoir de 1902 où on mangera le midi\, les champs\, la forêt et l’étang ! Et bien sûr\, les repas et le café sont offerts ! \nIl suffit pour nous rejoindre de vous inscrire via le lien suivant les jours qui vous conviennent\, et de venir nous rejoindre :  \nhttps://framadate.org/oNOZB6C2ytE2NFZx (plus d’infos en description du sondage) \nA très vite au Ter’Ter !
URL:https://fermeduterter.fr/event/chantiers-participatifs-agricoles-montage-de-serres-installation-reseau/
LOCATION:Les Fertais\, 4 les Fertais\, MARCILLE-RAOUL\, 35560\, France
END:VEVENT
END:VCALENDAR