BEGIN:VCALENDAR
VERSION:2.0
PRODID:-//Ferme du Ter Ter - ECPv6.15.20//NONSGML v1.0//EN
CALSCALE:GREGORIAN
METHOD:PUBLISH
X-ORIGINAL-URL:https://fermeduterter.fr
X-WR-CALDESC:Évènements pour Ferme du Ter Ter
REFRESH-INTERVAL;VALUE=DURATION:PT1H
X-Robots-Tag:noindex
X-PUBLISHED-TTL:PT1H
BEGIN:VTIMEZONE
TZID:Europe/Paris
BEGIN:DAYLIGHT
TZOFFSETFROM:+0100
TZOFFSETTO:+0200
TZNAME:CEST
DTSTART:20240331T010000
END:DAYLIGHT
BEGIN:STANDARD
TZOFFSETFROM:+0200
TZOFFSETTO:+0100
TZNAME:CET
DTSTART:20241027T010000
END:STANDARD
BEGIN:DAYLIGHT
TZOFFSETFROM:+0100
TZOFFSETTO:+0200
TZNAME:CEST
DTSTART:20250330T010000
END:DAYLIGHT
BEGIN:STANDARD
TZOFFSETFROM:+0200
TZOFFSETTO:+0100
TZNAME:CET
DTSTART:20251026T010000
END:STANDARD
BEGIN:DAYLIGHT
TZOFFSETFROM:+0100
TZOFFSETTO:+0200
TZNAME:CEST
DTSTART:20260329T010000
END:DAYLIGHT
BEGIN:STANDARD
TZOFFSETFROM:+0200
TZOFFSETTO:+0100
TZNAME:CET
DTSTART:20261025T010000
END:STANDARD
END:VTIMEZONE
BEGIN:VEVENT
DTSTART;TZID=Europe/Paris:20250705T103000
DTEND;TZID=Europe/Paris:20250705T120000
DTSTAMP:20260424T062036
CREATED:20250701T121747Z
LAST-MODIFIED:20250701T121747Z
UID:1483-1751711400-1751716800@fermeduterter.fr
SUMMARY:Visite publique de la ferme
DESCRIPTION:Envie de découvrir le projet de la ferme du Ter’Ter ? Venez nous rencontrer lors d’une réunion publique aux Fertais ! \nL’occasion d’une visite historique du lieu\, d’une présentation de l’installation de la ferme\, et de vous renseigner sur les modalités pour prendre part au projet si l’envie vous prend ! \nRendez-vous à 10h30 pour une visite de la ferme puis d’une présentation du projet et d’une discussion autour d’un pot. \nEn espérant vous y voir nombreux.ses ! Pour une meilleure organisation\, merci de nous informer de votre venue via ce lien : https://framaforms.org/inscription-visites-ferme-et-visios-1736182826
URL:https://fermeduterter.fr/event/visite-publique-de-la-ferme-5/
LOCATION:Les Fertais\, 4 les Fertais\, MARCILLE-RAOUL\, 35560\, France
END:VEVENT
END:VCALENDAR