BEGIN:VCALENDAR
VERSION:2.0
PRODID:-//Ferme du Ter Ter - ECPv6.15.20//NONSGML v1.0//EN
CALSCALE:GREGORIAN
METHOD:PUBLISH
X-WR-CALNAME:Ferme du Ter Ter
X-ORIGINAL-URL:https://fermeduterter.fr
X-WR-CALDESC:Évènements pour Ferme du Ter Ter
REFRESH-INTERVAL;VALUE=DURATION:PT1H
X-Robots-Tag:noindex
X-PUBLISHED-TTL:PT1H
BEGIN:VTIMEZONE
TZID:Europe/Paris
BEGIN:DAYLIGHT
TZOFFSETFROM:+0100
TZOFFSETTO:+0200
TZNAME:CEST
DTSTART:20240331T010000
END:DAYLIGHT
BEGIN:STANDARD
TZOFFSETFROM:+0200
TZOFFSETTO:+0100
TZNAME:CET
DTSTART:20241027T010000
END:STANDARD
BEGIN:DAYLIGHT
TZOFFSETFROM:+0100
TZOFFSETTO:+0200
TZNAME:CEST
DTSTART:20250330T010000
END:DAYLIGHT
BEGIN:STANDARD
TZOFFSETFROM:+0200
TZOFFSETTO:+0100
TZNAME:CET
DTSTART:20251026T010000
END:STANDARD
BEGIN:DAYLIGHT
TZOFFSETFROM:+0100
TZOFFSETTO:+0200
TZNAME:CEST
DTSTART:20260329T010000
END:DAYLIGHT
BEGIN:STANDARD
TZOFFSETFROM:+0200
TZOFFSETTO:+0100
TZNAME:CET
DTSTART:20261025T010000
END:STANDARD
END:VTIMEZONE
BEGIN:VEVENT
DTSTART;TZID=Europe/Paris:20250928T100000
DTEND;TZID=Europe/Paris:20250928T180000
DTSTAMP:20260424T111817
CREATED:20250803T194928Z
LAST-MODIFIED:20250918T204657Z
UID:1496-1759053600-1759082400@fermeduterter.fr
SUMMARY:Ferme ouverte : visite publique de la ferme
DESCRIPTION:En septembre après une pause estivale\, les visites mensuelles de la ferme reprennent ! Pour fêter la rentrée\, on vous attend nombreuses et nombreux à notre première ferme ouverte ! Au programme\, visites\, présentation\, grande plancha-frites avec les produits de la ferme\, bar et jeux ! \nNous aurons aussi le plaisir d’accueillir pour l’occasion la Caravane Main Verte du Réseau d’éducation à l’environnement du pays de Fougères (REEPF). \nRamenez vos grillades ! Nous en aurons aussi à vendre sur place ! \n 
URL:https://fermeduterter.fr/event/ferme-ouverte-visite-publique-de-la-ferme/
LOCATION:Les Fertais\, 4 les Fertais\, MARCILLE-RAOUL\, 35560\, France
ATTACH;FMTTYPE=image/png:https://fermeduterter.fr/wp-content/uploads/2025/08/ferme-ouverte.png
END:VEVENT
END:VCALENDAR